
BEGIN:VCALENDAR
VERSION:2.0
PRODID:-//History and Philosophy of Science Events - ECPv6.15.20//NONSGML v1.0//EN
CALSCALE:GREGORIAN
METHOD:PUBLISH
X-ORIGINAL-URL:https://hps-events.sydney.edu.au
X-WR-CALDESC:Events for History and Philosophy of Science Events
REFRESH-INTERVAL;VALUE=DURATION:PT1H
X-Robots-Tag:noindex
X-PUBLISHED-TTL:PT1H
BEGIN:VTIMEZONE
TZID:UTC
BEGIN:STANDARD
TZOFFSETFROM:+0000
TZOFFSETTO:+0000
TZNAME:UTC
DTSTART:20240101T000000
END:STANDARD
END:VTIMEZONE
BEGIN:VEVENT
DTSTART;TZID=UTC:20250501T080000
DTEND;TZID=UTC:20250501T170000
DTSTAMP:20260424T212140
CREATED:20250413T224731Z
LAST-MODIFIED:20250725T050747Z
UID:20-1746086400-1746118800@hps-events.sydney.edu.au
SUMMARY:Join Us for an Enlightening Workshop on the Intersection of History and Philosophy of Science!
DESCRIPTION:The History and Philosophy of Science Department at the University of Sydney is excited to invite you to our upcoming workshop\, “Exploring the Nexus of Knowledge: Historical and Philosophical Perspectives on Science.” This engaging event will delve into the rich tapestry of scientific development\, examining how historical contexts and philosophical inquiries have shaped our understanding of the natural world. \nParticipants will have the opportunity to: \n\nEngage with leading scholars in the field.\nParticipate in thought-provoking discussions and interactive sessions.\nExplore case studies that highlight the dynamic interplay between science\, history\, and philosophy.\n\nWhether you’re a student\, academic\, or simply a curious mind\, this workshop promises to offer valuable insights and foster a deeper appreciation for the complexities of scientific knowledge. Don’t miss this chance to broaden your horizons and connect with a community of like-minded individuals!
URL:https://hps-events.sydney.edu.au/event/join-us-for-an-enlightening-workshop-on-the-intersection-of-history-and-philosophy-of-science/
LOCATION:Eastern Avenue Auditorium\, University of Sydney\, Camperdown\, NSW\, 2006\, Australia
CATEGORIES:Conferences,Seminar,Seminars,Workshops
ATTACH;FMTTYPE=image/jpeg:https://hps-events.sydney.edu.au/wp-content/uploads/2025/04/AdobeStock_1344778770_Preview.jpeg
ORGANIZER;CN="HPS":MAILTO:jayne@ioncreative.com.au
END:VEVENT
END:VCALENDAR